BEGIN:VCALENDAR
VERSION:2.0
PRODID:spatie/icalendar-generator
DESCRIPTION:Events from BDSM Freiburg
X-WR-CALDESC:Events from BDSM Freiburg
REFRESH-INTERVAL;VALUE=DURATION:PT1440M
X-PUBLISHED-TTL:PT1440M
BEGIN:VTIMEZONE
TZID:Europe/Berlin
BEGIN:STANDARD
DTSTART:20231029T030000Z
TZOFFSETFROM:+0200
TZOFFSETTO:+0100
END:STANDARD
BEGIN:DAYLIGHT
DTSTART:20240331T020000Z
TZOFFSETFROM:+0100
TZOFFSETTO:+0200
END:DAYLIGHT
END:VTIMEZONE
BEGIN:VTIMEZONE
TZID:UTC
BEGIN:STANDARD
DTSTART:20250724T081647Z
TZOFFSETFROM:+0000
TZOFFSETTO:+0000
END:STANDARD
END:VTIMEZONE
BEGIN:VEVENT
UID:180-4
DTSTAMP:20260420T081647Z
SUMMARY:Freier Fessel Abend
LOCATION:
ORGANIZER;CN=Mod:MAILTO:walli@bdsm-freiburg.de
DTSTART;TZID=Europe/Berlin:20240208T200000
DTEND;TZID=Europe/Berlin:20240208T220000
X-ALT-DESC;FMTTYPE=TEXT/HTML:
CATEGORIES:Spielveranstaltung,  Workshop
URL;VALUE=URI:https://bdsm-freiburg.de/mc-events/freier-fessel-abend/
METHOD:PUBLISH
END:VEVENT
END:VCALENDAR