BEGIN:VCALENDAR
VERSION:2.0
PRODID:spatie/icalendar-generator
DESCRIPTION:Events from BDSM Freiburg
X-WR-CALDESC:Events from BDSM Freiburg
REFRESH-INTERVAL;VALUE=DURATION:PT1440M
X-PUBLISHED-TTL:PT1440M
BEGIN:VTIMEZONE
TZID:Europe/Berlin
BEGIN:DAYLIGHT
DTSTART:20250330T020000Z
TZOFFSETFROM:+0100
TZOFFSETTO:+0200
END:DAYLIGHT
BEGIN:STANDARD
DTSTART:20251026T030000Z
TZOFFSETFROM:+0200
TZOFFSETTO:+0100
END:STANDARD
BEGIN:DAYLIGHT
DTSTART:20260329T020000Z
TZOFFSETFROM:+0100
TZOFFSETTO:+0200
END:DAYLIGHT
END:VTIMEZONE
BEGIN:VTIMEZONE
TZID:UTC
BEGIN:STANDARD
DTSTART:20250726T084713Z
TZOFFSETFROM:+0000
TZOFFSETTO:+0000
END:STANDARD
END:VTIMEZONE
BEGIN:VEVENT
UID:240-13
DTSTAMP:20260422T084713Z
SUMMARY:SINNLICHE DOMINANZ -BDSM Anfänger Workshop für Paare
LOCATION:
ORGANIZER;CN=Mod:MAILTO:walli@bdsm-freiburg.de
DTSTART;TZID=Europe/Berlin:20251122T190000
DTEND;TZID=Europe/Berlin:20251122T200000
X-ALT-DESC;FMTTYPE=TEXT/HTML:
CATEGORIES:Workshop
URL;VALUE=URI:https://bdsm-freiburg.de/mc-events/sinnliche-dominanz-bdsm-an
 fanger-workshop-fur-paare/
METHOD:PUBLISH
END:VEVENT
END:VCALENDAR